BEGIN:VCALENDAR
VERSION:2.0
PRODID:-//Diplomat Condominiums - ECPv6.15.20//NONSGML v1.0//EN
CALSCALE:GREGORIAN
METHOD:PUBLISH
X-ORIGINAL-URL:https://diplomatcondominiums.com
X-WR-CALDESC:Events for Diplomat Condominiums
REFRESH-INTERVAL;VALUE=DURATION:PT1H
X-Robots-Tag:noindex
X-PUBLISHED-TTL:PT1H
BEGIN:VTIMEZONE
TZID:America/New_York
BEGIN:DAYLIGHT
TZOFFSETFROM:-0500
TZOFFSETTO:-0400
TZNAME:EDT
DTSTART:20240310T070000
END:DAYLIGHT
BEGIN:STANDARD
TZOFFSETFROM:-0400
TZOFFSETTO:-0500
TZNAME:EST
DTSTART:20241103T060000
END:STANDARD
BEGIN:DAYLIGHT
TZOFFSETFROM:-0500
TZOFFSETTO:-0400
TZNAME:EDT
DTSTART:20250309T070000
END:DAYLIGHT
BEGIN:STANDARD
TZOFFSETFROM:-0400
TZOFFSETTO:-0500
TZNAME:EST
DTSTART:20251102T060000
END:STANDARD
BEGIN:DAYLIGHT
TZOFFSETFROM:-0500
TZOFFSETTO:-0400
TZNAME:EDT
DTSTART:20260308T070000
END:DAYLIGHT
BEGIN:STANDARD
TZOFFSETFROM:-0400
TZOFFSETTO:-0500
TZNAME:EST
DTSTART:20261101T060000
END:STANDARD
END:VTIMEZONE
BEGIN:VEVENT
DTSTART;TZID=America/New_York:20251022T180000
DTEND;TZID=America/New_York:20251022T190000
DTSTAMP:20260423T150920
CREATED:20251021T185649Z
LAST-MODIFIED:20251023T142534Z
UID:927-1761156000-1761159600@diplomatcondominiums.com
SUMMARY:Board of Directors Meeting - October 22\, 2025
DESCRIPTION:BOARD OF DIRECTORS MEETING\nTHE DIPLOMAT APARTMENTS ASSOCIATION\, INC.\nOctober 22\, 2025\nTime: 6:00 PM\nVia Teams Online/Clubhouse\nDiplomat Association Hall\n3150 N. Atlantic Avenue\, Cocoa Beach\, FL 32931\nRemote Attendance: Join Teams Meeting\nhttps://teams.live.com/meet/9398755625373?p=sDg6A1IMQpqPmlajtw\nView Video and Meeting Transcript \nAGENDA\n\nCall To Order\nPresidents Message\nVote on Renovation/Restoration Project\nQuestions from the floor and online\nAdjournment\n\n 
URL:https://diplomatcondominiums.com/event/board-of-directors-meeting-october-22-2025/
LOCATION:Diplomat Clubhouse\, 3150 N. Atlantic Avenue\, Cocoa Beach\, FL\, 32931\, United States
CATEGORIES:Meetings
ATTACH;FMTTYPE=image/jpeg:https://diplomatcondominiums.com/wp-content/uploads/2025/01/board-meeting.jpg
ORGANIZER;CN="DIPLOMAT APARTMENTS ASSOCIATION%2C INC.":MAILTO:DiplomatCondos@cfl.rr.com
END:VEVENT
END:VCALENDAR