BEGIN:VCALENDAR
VERSION:2.0
PRODID:-//Diplomat Condominiums - ECPv6.15.18//NONSGML v1.0//EN
CALSCALE:GREGORIAN
METHOD:PUBLISH
X-ORIGINAL-URL:https://diplomatcondominiums.com
X-WR-CALDESC:Events for Diplomat Condominiums
REFRESH-INTERVAL;VALUE=DURATION:PT1H
X-Robots-Tag:noindex
X-PUBLISHED-TTL:PT1H
BEGIN:VTIMEZONE
TZID:America/New_York
BEGIN:DAYLIGHT
TZOFFSETFROM:-0500
TZOFFSETTO:-0400
TZNAME:EDT
DTSTART:20240310T070000
END:DAYLIGHT
BEGIN:STANDARD
TZOFFSETFROM:-0400
TZOFFSETTO:-0500
TZNAME:EST
DTSTART:20241103T060000
END:STANDARD
BEGIN:DAYLIGHT
TZOFFSETFROM:-0500
TZOFFSETTO:-0400
TZNAME:EDT
DTSTART:20250309T070000
END:DAYLIGHT
BEGIN:STANDARD
TZOFFSETFROM:-0400
TZOFFSETTO:-0500
TZNAME:EST
DTSTART:20251102T060000
END:STANDARD
BEGIN:DAYLIGHT
TZOFFSETFROM:-0500
TZOFFSETTO:-0400
TZNAME:EDT
DTSTART:20260308T070000
END:DAYLIGHT
BEGIN:STANDARD
TZOFFSETFROM:-0400
TZOFFSETTO:-0500
TZNAME:EST
DTSTART:20261101T060000
END:STANDARD
END:VTIMEZONE
BEGIN:VEVENT
DTSTART;TZID=America/New_York:20251210T180000
DTEND;TZID=America/New_York:20251210T190000
DTSTAMP:20260423T095305
CREATED:20251206T164029Z
LAST-MODIFIED:20251212T171932Z
UID:1007-1765389600-1765393200@diplomatcondominiums.com
SUMMARY:Board of Directors Meeting – December 10\, 2025
DESCRIPTION:DIPLOMAT APARTMENTS ASSOCIATION\, INC.\nBudget Meeting\nWednesday\, December 10\, 2025\n6:00 PM\nDiplomat Clubhouse\n3150 N. Atlantic Avenue\nAGENDA \n\nCall to Order\nRoll Call\nProof of Notice of Meeting\nApprove Minutes 2025 Budget Meeting\nReview and Discussion of Proposed 2026 Budget\nAdoption of 2026 Budget\nAdjournment
URL:https://diplomatcondominiums.com/event/board-of-directors-meeting-december-10-2025/
LOCATION:Diplomat Clubhouse\, 3150 N. Atlantic Avenue\, Cocoa Beach\, FL\, 32931\, United States
CATEGORIES:Meetings
ATTACH;FMTTYPE=image/jpeg:https://diplomatcondominiums.com/wp-content/uploads/2025/01/board-meeting.jpg
ORGANIZER;CN="DIPLOMAT APARTMENTS ASSOCIATION%2C INC.":MAILTO:DiplomatCondos@cfl.rr.com
END:VEVENT
BEGIN:VEVENT
DTSTART;TZID=America/New_York:20251223T180000
DTEND;TZID=America/New_York:20251223T190000
DTSTAMP:20260423T095305
CREATED:20251222T155417Z
LAST-MODIFIED:20251222T155417Z
UID:1051-1766512800-1766516400@diplomatcondominiums.com
SUMMARY:Board of Directors Meeting – December 23\, 2025
DESCRIPTION:BOARD OF DIRECTORS’ MEETING\nDecember 23\, 2025\n6:00 PM\nDiplomat Association Hall\n3150 N. Atlantic Avenue\, Cocoa Beach\, FL 32931\nMicrosoft Teams\nMeeting ID: 293 907 167 459 53\nPasscode: By6Ux2jv\nPrintable Agenda (PDF Version) \nAgenda:\n\nRoll Call\nProof of Notice of Meeting\nApprove Minutes from previous Board Meeting\nNew Business\n\n\nChematics Contract Signing.\n\n\nComments By Owners\nAdjournment
URL:https://diplomatcondominiums.com/event/board-of-directors-meeting-december-23-2025/
LOCATION:Diplomat Association Hall\, 3150 N. Atlantic Avenue\, Cocoa Beach\, FL\, 32931\, United States
CATEGORIES:Meetings
ATTACH;FMTTYPE=image/jpeg:https://diplomatcondominiums.com/wp-content/uploads/2025/01/board-meeting.jpg
ORGANIZER;CN="DIPLOMAT APARTMENTS ASSOCIATION%2C INC.":MAILTO:DiplomatCondos@cfl.rr.com
END:VEVENT
END:VCALENDAR