BEGIN:VCALENDAR
VERSION:2.0
PRODID:-//Diplomat Condominiums - ECPv6.15.20//NONSGML v1.0//EN
CALSCALE:GREGORIAN
METHOD:PUBLISH
X-ORIGINAL-URL:https://diplomatcondominiums.com
X-WR-CALDESC:Events for Diplomat Condominiums
REFRESH-INTERVAL;VALUE=DURATION:PT1H
X-Robots-Tag:noindex
X-PUBLISHED-TTL:PT1H
BEGIN:VTIMEZONE
TZID:America/New_York
BEGIN:DAYLIGHT
TZOFFSETFROM:-0500
TZOFFSETTO:-0400
TZNAME:EDT
DTSTART:20240310T070000
END:DAYLIGHT
BEGIN:STANDARD
TZOFFSETFROM:-0400
TZOFFSETTO:-0500
TZNAME:EST
DTSTART:20241103T060000
END:STANDARD
BEGIN:DAYLIGHT
TZOFFSETFROM:-0500
TZOFFSETTO:-0400
TZNAME:EDT
DTSTART:20250309T070000
END:DAYLIGHT
BEGIN:STANDARD
TZOFFSETFROM:-0400
TZOFFSETTO:-0500
TZNAME:EST
DTSTART:20251102T060000
END:STANDARD
BEGIN:DAYLIGHT
TZOFFSETFROM:-0500
TZOFFSETTO:-0400
TZNAME:EDT
DTSTART:20260308T070000
END:DAYLIGHT
BEGIN:STANDARD
TZOFFSETFROM:-0400
TZOFFSETTO:-0500
TZNAME:EST
DTSTART:20261101T060000
END:STANDARD
END:VTIMEZONE
BEGIN:VEVENT
DTSTART;TZID=America/New_York:20250110T160000
DTEND;TZID=America/New_York:20250110T160000
DTSTAMP:20260424T070501
CREATED:20250106T203139Z
LAST-MODIFIED:20250106T214420Z
UID:537-1736524800-1736524800@diplomatcondominiums.com
SUMMARY:Budget Meeting - January 10\, 2025
DESCRIPTION:DIPLOMAT APARTMENTS ASSOCIATION\, INC.\nBudget Meeting\nFriday\, January 10\, 2025 @ 4:00 PM\nDiplomat Clubhouse\n3150 N. Atlantic Avenue\nOr\nZoom: https://us02web.zoom.us/j/7519963880?omn=84312073598&from=addon \nAGENDA\n1. Call to Order\n2. Roll Call\n3. Proof of Notice of Meeting\n4. Review and Discussion of Proposed 2025 Budget\n5. Ratification of 2025 Budget\n6. Adjournment \nView Agenda PDF \n 
URL:https://diplomatcondominiums.com/event/budget-meeting-january-10-2025/
LOCATION:Diplomat Clubhouse\, 3150 N. Atlantic Avenue\, Cocoa Beach\, FL\, 32931\, United States
CATEGORIES:Meetings
ATTACH;FMTTYPE=image/jpeg:https://diplomatcondominiums.com/wp-content/uploads/2025/01/budget_meeting.jpg
ORGANIZER;CN="DIPLOMAT APARTMENTS ASSOCIATION%2C INC.":MAILTO:DiplomatCondos@cfl.rr.com
END:VEVENT
END:VCALENDAR